BEGIN:VCALENDAR
VERSION:2.0
PRODID:-//LKT Wyczół Gościeradz Polska - ECPv5.2.1//NONSGML v1.0//EN
CALSCALE:GREGORIAN
METHOD:PUBLISH
X-WR-CALNAME:LKT Wyczół Gościeradz Polska
X-ORIGINAL-URL:https://www.lktwg.com
X-WR-CALDESC:Events for LKT Wyczół Gościeradz Polska
BEGIN:VTIMEZONE
TZID:Europe/Warsaw
BEGIN:DAYLIGHT
TZOFFSETFROM:+0100
TZOFFSETTO:+0200
TZNAME:CEST
DTSTART:20190331T010000
END:DAYLIGHT
BEGIN:STANDARD
TZOFFSETFROM:+0200
TZOFFSETTO:+0100
TZNAME:CET
DTSTART:20191027T010000
END:STANDARD
END:VTIMEZONE
BEGIN:VEVENT
DTSTART;TZID=Europe/Warsaw:20190223T110000
DTEND;TZID=Europe/Warsaw:20190223T123000
DTSTAMP:20260425T003128
CREATED:20190221T185255Z
LAST-MODIFIED:20190221T185255Z
UID:3465-1550919600-1550925000@www.lktwg.com
SUMMARY:Zebranie Sprawozdawczo- Klubu za rok 2018
DESCRIPTION:
URL:https://www.lktwg.com/event/zebranie-sprawozdawczo-klubu-za-rok-2018/
LOCATION:Gościeradz
ORGANIZER;CN="LKT%20Wycz%C3%B3%C5%82%20Go%C5%9Bcieradz":MAILTO:kontakt@lktwg.com
END:VEVENT
END:VCALENDAR