BEGIN:VCALENDAR
VERSION:2.0
PRODID:-//LKT Wyczół Gościeradz Polska - ECPv5.2.1//NONSGML v1.0//EN
CALSCALE:GREGORIAN
METHOD:PUBLISH
X-WR-CALNAME:LKT Wyczół Gościeradz Polska
X-ORIGINAL-URL:https://www.lktwg.com
X-WR-CALDESC:Events for LKT Wyczół Gościeradz Polska
BEGIN:VTIMEZONE
TZID:Europe/Warsaw
BEGIN:DAYLIGHT
TZOFFSETFROM:+0100
TZOFFSETTO:+0200
TZNAME:CEST
DTSTART:20200329T010000
END:DAYLIGHT
BEGIN:STANDARD
TZOFFSETFROM:+0200
TZOFFSETTO:+0100
TZNAME:CET
DTSTART:20201025T010000
END:STANDARD
END:VTIMEZONE
BEGIN:VEVENT
DTSTART;VALUE=DATE:20200905
DTEND;VALUE=DATE:20200906
DTSTAMP:20260421T154519
CREATED:20200303T101853Z
LAST-MODIFIED:20200303T101958Z
UID:3967-1599264000-1599350399@www.lktwg.com
SUMMARY:XXIV Rajd Ekologiczny nad Zalewem Koronowskim i w Borach Tucholskich
DESCRIPTION:XIII runda Turystycznych\nMotorowych Mistrzostw\nPolski\nTryszczyn/Pólko 05.09.\nMichał Chorzępa\n601 621366 \n11. Turystyczny Puchar Polski-\nXIII runda\nTryszczyn/Pólko 05.09.\nMichał Chorzępa\n601 621366 \n12. III runda Turystycznych\nMotorowych Mistrzostw\nOkręgu\nTryszczyn/Pólko 05.09.\nMichał Chorzępa\n601 621366
URL:https://www.lktwg.com/event/xxiv-rajd-ekologiczny-nad-zalewem-koronowskim-i-w-borach-tucholskich/
LOCATION:Tryszczyn – Pólko
ORGANIZER;CN="Micha%C5%82%20Chorz%C4%99pa":MAILTO:chorzepa@o2.pl
END:VEVENT
END:VCALENDAR