BEGIN:VCALENDAR
VERSION:2.0
PRODID:-//LKT Wyczół Gościeradz Polska - ECPv5.2.1//NONSGML v1.0//EN
CALSCALE:GREGORIAN
METHOD:PUBLISH
X-WR-CALNAME:LKT Wyczół Gościeradz Polska
X-ORIGINAL-URL:https://www.lktwg.com
X-WR-CALDESC:Events for LKT Wyczół Gościeradz Polska
BEGIN:VTIMEZONE
TZID:Europe/Warsaw
BEGIN:DAYLIGHT
TZOFFSETFROM:+0100
TZOFFSETTO:+0200
TZNAME:CEST
DTSTART:20170326T010000
END:DAYLIGHT
BEGIN:STANDARD
TZOFFSETFROM:+0200
TZOFFSETTO:+0100
TZNAME:CET
DTSTART:20171029T010000
END:STANDARD
END:VTIMEZONE
BEGIN:VEVENT
DTSTART;VALUE=DATE:20170902
DTEND;VALUE=DATE:20170903
DTSTAMP:20260425T151906
CREATED:20170319T174053Z
LAST-MODIFIED:20170324T095000Z
UID:620-1504310400-1504396799@www.lktwg.com
SUMMARY:VI runda Mistrzostw Polski i Pucharu Polski SUPERMOTO
DESCRIPTION:VI runda Mistrzostw Polski i Pucharu Polski SUPERMOTO
URL:https://www.lktwg.com/event/vi-runda-mistrzostw-polski-pucharu-polski-supermoto/
LOCATION:Kartodrom Bydgoszcz\, Fordońska 116\, Bydgoszcz\, Kujawsko-pomorskie\, Polska
ORGANIZER;CN="%C5%81ukasz%20Chorz%C4%99pa":MAILTO:lukasz@lktwg.com
END:VEVENT
END:VCALENDAR