BEGIN:VCALENDAR
VERSION:2.0
PRODID:-//LKT Wyczół Gościeradz Polska - ECPv5.2.1//NONSGML v1.0//EN
CALSCALE:GREGORIAN
METHOD:PUBLISH
X-WR-CALNAME:LKT Wyczół Gościeradz Polska
X-ORIGINAL-URL:https://www.lktwg.com
X-WR-CALDESC:Events for LKT Wyczół Gościeradz Polska
BEGIN:VTIMEZONE
TZID:Europe/Warsaw
BEGIN:DAYLIGHT
TZOFFSETFROM:+0100
TZOFFSETTO:+0200
TZNAME:CEST
DTSTART:20200329T010000
END:DAYLIGHT
BEGIN:STANDARD
TZOFFSETFROM:+0200
TZOFFSETTO:+0100
TZNAME:CET
DTSTART:20201025T010000
END:STANDARD
END:VTIMEZONE
BEGIN:VEVENT
DTSTART;VALUE=DATE:20201119
DTEND;VALUE=DATE:20201120
DTSTAMP:20260421T180813
CREATED:20200303T102057Z
LAST-MODIFIED:20200303T102057Z
UID:3971-1605744000-1605830399@www.lktwg.com
SUMMARY:Akcja-Światowy Dzień Pamięci Ofiar Wypadków Drogowych
DESCRIPTION:
URL:https://www.lktwg.com/event/akcja-swiatowy-dzien-pamieci-ofiar-wypadkow-drogowych/
LOCATION:Gościeradz
ORGANIZER;CN="%C5%81ukasz%20Chorz%C4%99pa":MAILTO:lukasz@lktwg.com
END:VEVENT
END:VCALENDAR