BEGIN:VCALENDAR
VERSION:2.0
PRODID:-//LKT Wyczół Gościeradz Polska - ECPv5.2.1//NONSGML v1.0//EN
CALSCALE:GREGORIAN
METHOD:PUBLISH
X-WR-CALNAME:LKT Wyczół Gościeradz Polska
X-ORIGINAL-URL:https://www.lktwg.com
X-WR-CALDESC:Events for LKT Wyczół Gościeradz Polska
BEGIN:VTIMEZONE
TZID:Europe/Warsaw
BEGIN:DAYLIGHT
TZOFFSETFROM:+0100
TZOFFSETTO:+0200
TZNAME:CEST
DTSTART:20190331T010000
END:DAYLIGHT
BEGIN:STANDARD
TZOFFSETFROM:+0200
TZOFFSETTO:+0100
TZNAME:CET
DTSTART:20191027T010000
END:STANDARD
END:VTIMEZONE
BEGIN:VEVENT
DTSTART;VALUE=DATE:20190914
DTEND;VALUE=DATE:20190915
DTSTAMP:20260422T014304
CREATED:20190221T190414Z
LAST-MODIFIED:20190221T190414Z
UID:3482-1568419200-1568505599@www.lktwg.com
SUMMARY:6 runda Puchar Polski (250\, Classic)\, 5 runda Puchar Polski (Skutery) Wyścigi Motocyklowe
DESCRIPTION:
URL:https://www.lktwg.com/event/6-runda-puchar-polski-250-classic-5-runda-puchar-polski-skutery-wyscigi-motocyklowe/
LOCATION:Kartodrom Bydgoszcz\, Fordońska 116\, Bydgoszcz\, Kujawsko-pomorskie\, Polska
ORGANIZER;CN="Bartosz%20Zwolanowski":MAILTO:kontakt@lktwg.com
END:VEVENT
END:VCALENDAR