BEGIN:VCALENDAR
VERSION:2.0
PRODID:-//LKT Wyczół Gościeradz Polska - ECPv5.2.1//NONSGML v1.0//EN
CALSCALE:GREGORIAN
METHOD:PUBLISH
X-WR-CALNAME:LKT Wyczół Gościeradz Polska
X-ORIGINAL-URL:https://www.lktwg.com
X-WR-CALDESC:Events for LKT Wyczół Gościeradz Polska
BEGIN:VTIMEZONE
TZID:Europe/Warsaw
BEGIN:DAYLIGHT
TZOFFSETFROM:+0100
TZOFFSETTO:+0200
TZNAME:CEST
DTSTART:20200329T010000
END:DAYLIGHT
BEGIN:STANDARD
TZOFFSETFROM:+0200
TZOFFSETTO:+0100
TZNAME:CET
DTSTART:20201025T010000
END:STANDARD
END:VTIMEZONE
BEGIN:VEVENT
DTSTART;TZID=Europe/Warsaw:20200601T080000
DTEND;TZID=Europe/Warsaw:20200601T170000
DTSTAMP:20260421T222216
CREATED:20200303T102258Z
LAST-MODIFIED:20200303T102258Z
UID:3973-1590998400-1591030800@www.lktwg.com
SUMMARY:4 rundy Amatorskich Kartingowych Mistrzostw Okręgu
DESCRIPTION:
URL:https://www.lktwg.com/event/4-rundy-amatorskich-kartingowych-mistrzostw-okregu/
LOCATION:Kartodrom Bydgoszcz\, Fordońska 116\, Bydgoszcz\, Kujawsko-pomorskie\, Polska
END:VEVENT
END:VCALENDAR