BEGIN:VCALENDAR
VERSION:2.0
PRODID:-//LKT Wyczół Gościeradz Polska - ECPv5.2.1//NONSGML v1.0//EN
CALSCALE:GREGORIAN
METHOD:PUBLISH
X-WR-CALNAME:LKT Wyczół Gościeradz Polska
X-ORIGINAL-URL:https://www.lktwg.com
X-WR-CALDESC:Events for LKT Wyczół Gościeradz Polska
BEGIN:VTIMEZONE
TZID:Europe/Warsaw
BEGIN:DAYLIGHT
TZOFFSETFROM:+0100
TZOFFSETTO:+0200
TZNAME:CEST
DTSTART:20200329T010000
END:DAYLIGHT
BEGIN:STANDARD
TZOFFSETFROM:+0200
TZOFFSETTO:+0100
TZNAME:CET
DTSTART:20201025T010000
END:STANDARD
END:VTIMEZONE
BEGIN:VEVENT
DTSTART;VALUE=DATE:20200523
DTEND;VALUE=DATE:20200524
DTSTAMP:20260422T000844
CREATED:20200303T101048Z
LAST-MODIFIED:20200303T101048Z
UID:3953-1590192000-1590278399@www.lktwg.com
SUMMARY:1 runda Mistrzostw Polski i Pucharu Polski Supermoto 1 runda Puchar Polski Wyścigi Motocyklowe (skutery)
DESCRIPTION:1 runda Mistrzostw Polski i\nPucharu Polski Supermoto\n1 runda Puchar Polski Wyścigi\nMotocyklowe (skutery)
URL:https://www.lktwg.com/event/1-runda-mistrzostw-polski-i-pucharu-polski-supermoto-1-runda-puchar-polski-wyscigi-motocyklowe-skutery/
LOCATION:Kartodrom Bydgoszcz\, Fordońska 116\, Bydgoszcz\, Kujawsko-pomorskie\, Polska
ORGANIZER;CN="Bartosz%20Zwolanowski":MAILTO:kontakt@lktwg.com
END:VEVENT
END:VCALENDAR