BEGIN:VCALENDAR
VERSION:2.0
PRODID:-//LKT Wyczół Gościeradz Polska - ECPv5.2.1//NONSGML v1.0//EN
CALSCALE:GREGORIAN
METHOD:PUBLISH
X-WR-CALNAME:LKT Wyczół Gościeradz Polska
X-ORIGINAL-URL:https://www.lktwg.com/en
X-WR-CALDESC:Events for LKT Wyczół Gościeradz Polska
BEGIN:VTIMEZONE
TZID:Europe/Warsaw
BEGIN:DAYLIGHT
TZOFFSETFROM:+0100
TZOFFSETTO:+0200
TZNAME:CEST
DTSTART:20170326T010000
END:DAYLIGHT
BEGIN:STANDARD
TZOFFSETFROM:+0200
TZOFFSETTO:+0100
TZNAME:CET
DTSTART:20171029T010000
END:STANDARD
END:VTIMEZONE
BEGIN:VEVENT
DTSTART;VALUE=DATE:20170608
DTEND;VALUE=DATE:20170612
DTSTAMP:20260426T030134
CREATED:20170319T172733Z
LAST-MODIFIED:20170319T181545Z
UID:599-1496880000-1497225599@www.lktwg.com
SUMMARY:Dębki - XVII Turystyczny Rajd Samochodowy
DESCRIPTION:Sorry\, this entry is only available in Polish. For the sake of viewer convenience\, the content is shown below in the alternative language. You may click the link to switch the active language. \nXVII Turystyczny Rajd Samochodowy
URL:https://www.lktwg.com/en/event/xvii-turystyczny-rajd-samochodowy/
LOCATION:Dębki\, Spacerowa 17\, Dębki\, Polska
ORGANIZER;CN="Micha%C5%82%20Chorz%C4%99pa":MAILTO:chorzepa@o2.pl
END:VEVENT
END:VCALENDAR