BEGIN:VCALENDAR
VERSION:2.0
PRODID:-//LKT Wyczół Gościeradz Polska - ECPv5.2.1//NONSGML v1.0//EN
CALSCALE:GREGORIAN
METHOD:PUBLISH
X-WR-CALNAME:LKT Wyczół Gościeradz Polska
X-ORIGINAL-URL:https://www.lktwg.com/en
X-WR-CALDESC:Events for LKT Wyczół Gościeradz Polska
BEGIN:VTIMEZONE
TZID:Europe/Warsaw
BEGIN:DAYLIGHT
TZOFFSETFROM:+0100
TZOFFSETTO:+0200
TZNAME:CEST
DTSTART:20170326T010000
END:DAYLIGHT
BEGIN:STANDARD
TZOFFSETFROM:+0200
TZOFFSETTO:+0100
TZNAME:CET
DTSTART:20171029T010000
END:STANDARD
END:VTIMEZONE
BEGIN:VEVENT
DTSTART;VALUE=DATE:20170710
DTEND;VALUE=DATE:20170722
DTSTAMP:20260426T012215
CREATED:20170319T172907Z
LAST-MODIFIED:20170319T172907Z
UID:602-1499644800-1500681599@www.lktwg.com
SUMMARY:XVII  Tatrzański Rajd Pieszy
DESCRIPTION:Sorry\, this entry is only available in Polish. For the sake of viewer convenience\, the content is shown below in the alternative language. You may click the link to switch the active language. \nXVII  Tatrzański Rajd Pieszy
URL:https://www.lktwg.com/en/event/xvii-tatrzanski-rajd-pieszy/
END:VEVENT
END:VCALENDAR