BEGIN:VCALENDAR
VERSION:2.0
PRODID:-//LKT Wyczół Gościeradz Polska - ECPv5.2.1//NONSGML v1.0//EN
CALSCALE:GREGORIAN
METHOD:PUBLISH
X-WR-CALNAME:LKT Wyczół Gościeradz Polska
X-ORIGINAL-URL:https://www.lktwg.com/en
X-WR-CALDESC:Events for LKT Wyczół Gościeradz Polska
BEGIN:VTIMEZONE
TZID:Europe/Warsaw
BEGIN:DAYLIGHT
TZOFFSETFROM:+0100
TZOFFSETTO:+0200
TZNAME:CEST
DTSTART:20170326T010000
END:DAYLIGHT
BEGIN:STANDARD
TZOFFSETFROM:+0200
TZOFFSETTO:+0100
TZNAME:CET
DTSTART:20171029T010000
END:STANDARD
END:VTIMEZONE
BEGIN:VEVENT
DTSTART;VALUE=DATE:20170811
DTEND;VALUE=DATE:20170824
DTSTAMP:20260425T211137
CREATED:20170319T173711Z
LAST-MODIFIED:20170319T173711Z
UID:613-1502409600-1503532799@www.lktwg.com
SUMMARY:Wyprawa Turystyczna PRIBAŁTYKA - 2017
DESCRIPTION:Sorry\, this entry is only available in Polish. For the sake of viewer convenience\, the content is shown below in the alternative language. You may click the link to switch the active language. \nWyprawa Turystyczna PRIBAŁTYKA – 2017 \nLitawa\, Łotwa\, Estonia
URL:https://www.lktwg.com/en/event/wyprawa-turystyczna-pribaltyka-2017/
ORGANIZER;CN="Micha%C5%82%20Chorz%C4%99pa":MAILTO:chorzepa@o2.pl
END:VEVENT
END:VCALENDAR