BEGIN:VCALENDAR
VERSION:2.0
PRODID:-//LKT Wyczół Gościeradz Polska - ECPv5.2.1//NONSGML v1.0//EN
CALSCALE:GREGORIAN
METHOD:PUBLISH
X-WR-CALNAME:LKT Wyczół Gościeradz Polska
X-ORIGINAL-URL:https://www.lktwg.com/en
X-WR-CALDESC:Events for LKT Wyczół Gościeradz Polska
BEGIN:VTIMEZONE
TZID:Europe/Warsaw
BEGIN:DAYLIGHT
TZOFFSETFROM:+0100
TZOFFSETTO:+0200
TZNAME:CEST
DTSTART:20170326T010000
END:DAYLIGHT
BEGIN:STANDARD
TZOFFSETFROM:+0200
TZOFFSETTO:+0100
TZNAME:CET
DTSTART:20171029T010000
END:STANDARD
END:VTIMEZONE
BEGIN:VEVENT
DTSTART;VALUE=DATE:20170820
DTEND;VALUE=DATE:20170821
DTSTAMP:20260425T155120
CREATED:20170319T173934Z
LAST-MODIFIED:20170319T173934Z
UID:618-1503187200-1503273599@www.lktwg.com
SUMMARY:Mistrzostwa Okręgu PITBIKE Supermoto - IV runda
DESCRIPTION:Sorry\, this entry is only available in Polish. For the sake of viewer convenience\, the content is shown below in the alternative language. You may click the link to switch the active language. \nMistrzostwa Okręgu PITBIKE Supermoto – IV runda
URL:https://www.lktwg.com/en/event/mistrzostwa-okregu-pitbike-supermoto-iv-runda/
LOCATION:Kartodrom Bydgoszcz\, Fordońska 116\, Bydgoszcz\, Kujawsko-pomorskie\, Polska
ORGANIZER;CN="Boles%C5%82aw%20Zwolanowski":MAILTO:bolzwo@poczta.onet.pl
END:VEVENT
END:VCALENDAR