BEGIN:VCALENDAR
VERSION:2.0
PRODID:-//LKT Wyczół Gościeradz Polska - ECPv5.2.1//NONSGML v1.0//EN
CALSCALE:GREGORIAN
METHOD:PUBLISH
X-WR-CALNAME:LKT Wyczół Gościeradz Polska
X-ORIGINAL-URL:https://www.lktwg.com/en
X-WR-CALDESC:Events for LKT Wyczół Gościeradz Polska
BEGIN:VTIMEZONE
TZID:Europe/Warsaw
BEGIN:DAYLIGHT
TZOFFSETFROM:+0100
TZOFFSETTO:+0200
TZNAME:CEST
DTSTART:20170326T010000
END:DAYLIGHT
BEGIN:STANDARD
TZOFFSETFROM:+0200
TZOFFSETTO:+0100
TZNAME:CET
DTSTART:20171029T010000
END:STANDARD
END:VTIMEZONE
BEGIN:VEVENT
DTSTART;VALUE=DATE:20170813
DTEND;VALUE=DATE:20170814
DTSTAMP:20260425T174253
CREATED:20170319T173845Z
LAST-MODIFIED:20170319T173845Z
UID:615-1502582400-1502668799@www.lktwg.com
SUMMARY:I/II runda Amatorskich Kartingowych Mistrzostw Okręgu
DESCRIPTION:Sorry\, this entry is only available in Polish. For the sake of viewer convenience\, the content is shown below in the alternative language. You may click the link to switch the active language. \nI/II runda Amatorskich Kartingowych Mistrzostw Okręgu
URL:https://www.lktwg.com/en/event/iii-runda-amatorskich-kartingowych-mistrzostw-okregu/
LOCATION:Kartodrom Bydgoszcz\, Fordońska 116\, Bydgoszcz\, Kujawsko-pomorskie\, Polska
ORGANIZER;CN="%C5%81ukasz%20Chorz%C4%99pa":MAILTO:lukasz@lktwg.com
END:VEVENT
END:VCALENDAR