BEGIN:VCALENDAR
VERSION:2.0
PRODID:-//LKT Wyczół Gościeradz Polska - ECPv5.2.1//NONSGML v1.0//EN
CALSCALE:GREGORIAN
METHOD:PUBLISH
X-WR-CALNAME:LKT Wyczół Gościeradz Polska
X-ORIGINAL-URL:https://www.lktwg.com/en
X-WR-CALDESC:Events for LKT Wyczół Gościeradz Polska
BEGIN:VTIMEZONE
TZID:Europe/Warsaw
BEGIN:DAYLIGHT
TZOFFSETFROM:+0100
TZOFFSETTO:+0200
TZNAME:CEST
DTSTART:20170326T010000
END:DAYLIGHT
BEGIN:STANDARD
TZOFFSETFROM:+0200
TZOFFSETTO:+0100
TZNAME:CET
DTSTART:20171029T010000
END:STANDARD
END:VTIMEZONE
BEGIN:VEVENT
DTSTART;VALUE=DATE:20170726
DTEND;VALUE=DATE:20170729
DTSTAMP:20260425T214703
CREATED:20170319T173503Z
LAST-MODIFIED:20170319T173554Z
UID:609-1501027200-1501286399@www.lktwg.com
SUMMARY:72 FIM Rally 2017 Szwecja-Sundsvall
DESCRIPTION:Sorry\, this entry is only available in Polish. For the sake of viewer convenience\, the content is shown below in the alternative language. You may click the link to switch the active language. \n72 FIM Rally 2017 – udział ekipy klubowej. \nHOME
URL:https://www.lktwg.com/en/event/72-fim-rally-2017-szwecja-sundsvall/
LOCATION:Sundsvall\, Szwecja
END:VEVENT
END:VCALENDAR